BEGIN:VCALENDAR
VERSION:2.0
PRODID:-//AEIM - ECPv6.15.20//NONSGML v1.0//EN
CALSCALE:GREGORIAN
METHOD:PUBLISH
X-WR-CALNAME:AEIM
X-ORIGINAL-URL:https://www.aeim.org
X-WR-CALDESC:Eventos para AEIM
REFRESH-INTERVAL;VALUE=DURATION:PT1H
X-Robots-Tag:noindex
X-PUBLISHED-TTL:PT1H
BEGIN:VTIMEZONE
TZID:UTC
BEGIN:STANDARD
TZOFFSETFROM:+0000
TZOFFSETTO:+0000
TZNAME:UTC
DTSTART:20190101T000000
END:STANDARD
END:VTIMEZONE
BEGIN:VEVENT
DTSTART;TZID=UTC:20201119T083000
DTEND;TZID=UTC:20201119T130000
DTSTAMP:20260424T160213
CREATED:20200910T150102Z
LAST-MODIFIED:20201007T113117Z
UID:7301-1605774600-1605790800@www.aeim.org
SUMMARY:Conferencia Europea STTC (Sustainable Tropical Timber Coalition). ON LINE. 19\, noviembre\, 2020.
DESCRIPTION:Participará AEIM. Acceso a la Web del evento: \n\n19 November 2020 – Online Conference: Holding the line and moving forward
URL:https://www.aeim.org/index.php/actividad/conferencia-europea-sttc-sustainable-tropical-timber-coalition-on-line-19-noviembre-2020/
LOCATION:Navarra
CATEGORIES:Destacado
ATTACH;FMTTYPE=image/jpeg:https://www.aeim.org/wp-content/uploads/2020/09/STTC-pequeño-1.jpg
END:VEVENT
END:VCALENDAR