BEGIN:VCALENDAR
VERSION:2.0
PRODID:-//AEIM - ECPv6.15.20//NONSGML v1.0//EN
CALSCALE:GREGORIAN
METHOD:PUBLISH
X-WR-CALNAME:AEIM
X-ORIGINAL-URL:https://www.aeim.org
X-WR-CALDESC:Eventos para AEIM
REFRESH-INTERVAL;VALUE=DURATION:PT1H
X-Robots-Tag:noindex
X-PUBLISHED-TTL:PT1H
BEGIN:VTIMEZONE
TZID:UTC
BEGIN:STANDARD
TZOFFSETFROM:+0000
TZOFFSETTO:+0000
TZNAME:UTC
DTSTART:20190101T000000
END:STANDARD
END:VTIMEZONE
BEGIN:VEVENT
DTSTART;TZID=UTC:20201012T080000
DTEND;TZID=UTC:20201018T170000
DTSTAMP:20260424T160214
CREATED:20201007T103337Z
LAST-MODIFIED:20201007T104737Z
UID:7343-1602489600-1603040400@www.aeim.org
SUMMARY:VI Semana de la Madera de Euskadi. Del 12 al 18 de octubre.
DESCRIPTION:Baskegur\, la Asociación de la Madera de Euskadi\, celebrará su VI Semana de la Madera del 12 al 18 de octubre. Debido a la situación sanitaria provocada por la COVID-19\, las actividades serán principalmente online. Las presenciales\, con aforo reducido\, también podrán ser seguidas en la nueva web www.baskegur.eus.
URL:https://www.aeim.org/index.php/actividad/vi-semana-de-la-madera-de-euskadi-del-12-al-18-de-octubre/
LOCATION:Navarra
CATEGORIES:Destacado
ATTACH;FMTTYPE=image/jpeg:https://www.aeim.org/wp-content/uploads/2020/10/Semana-de-la-madera-Euskadi.jpg
END:VEVENT
END:VCALENDAR