BEGIN:VCALENDAR
VERSION:2.0
PRODID:-//AEIM - ECPv6.15.20//NONSGML v1.0//EN
CALSCALE:GREGORIAN
METHOD:PUBLISH
X-ORIGINAL-URL:https://www.aeim.org
X-WR-CALDESC:Eventos para AEIM
REFRESH-INTERVAL;VALUE=DURATION:PT1H
X-Robots-Tag:noindex
X-PUBLISHED-TTL:PT1H
BEGIN:VTIMEZONE
TZID:UTC
BEGIN:STANDARD
TZOFFSETFROM:+0000
TZOFFSETTO:+0000
TZNAME:UTC
DTSTART:20190101T000000
END:STANDARD
END:VTIMEZONE
BEGIN:VEVENT
DTSTART;TZID=UTC:20200618T103000
DTEND;TZID=UTC:20200618T143000
DTSTAMP:20260424T233802
CREATED:20200530T104722Z
LAST-MODIFIED:20200603T100624Z
UID:5667-1592476200-1592490600@www.aeim.org
SUMMARY:Reunión ordinaria de Junta directiva. Madrid\, 18 de junio\, 2020. Se celebrará On Line.
DESCRIPTION:La próxima reunión de Junta directiva de la Asociación se celebrará el 18 de junio\, 2020\, en formato On line. Los asociados pueden consultar el Orden del Dia a través de la intranet de la Asociación. Acceso: área corporativa. \nSi lo deseais\,  podeis aportar propuestas y asuntos para tratar en la reunión. \n 
URL:https://www.aeim.org/index.php/actividad/reunion-ordinaria-de-junta-directiva-madrid-14-de-junio-2019/
LOCATION:Navarra
CATEGORIES:Destacado
ATTACH;FMTTYPE=image/jpeg:https://www.aeim.org/wp-content/uploads/2020/06/Junta-20feb20.-2.-Revisada.jpg
END:VEVENT
END:VCALENDAR