BEGIN:VCALENDAR
VERSION:2.0
PRODID:-//AEIM - ECPv6.15.20//NONSGML v1.0//EN
CALSCALE:GREGORIAN
METHOD:PUBLISH
X-WR-CALNAME:AEIM
X-ORIGINAL-URL:https://www.aeim.org
X-WR-CALDESC:Eventos para AEIM
REFRESH-INTERVAL;VALUE=DURATION:PT1H
X-Robots-Tag:noindex
X-PUBLISHED-TTL:PT1H
BEGIN:VTIMEZONE
TZID:UTC
BEGIN:STANDARD
TZOFFSETFROM:+0000
TZOFFSETTO:+0000
TZNAME:UTC
DTSTART:20170101T000000
END:STANDARD
END:VTIMEZONE
BEGIN:VEVENT
DTSTART;TZID=UTC:20181113T080000
DTEND;TZID=UTC:20181116T170000
DTSTAMP:20260426T043722
CREATED:20180703T100639Z
LAST-MODIFIED:20180703T104839Z
UID:4017-1542096000-1542387600@www.aeim.org
SUMMARY:Construtec 2018. Madrid. Ifema. Del 13 al 16 de noviembre.
DESCRIPTION:Construtec 2018. Salón Internacional de Materiales\, Técnicas y soluciones constructivas. Se celebrará en Madrid (Ifema). Del 13 al 16 de noviembre. \nDesde AEIM se ha remitido a los asociados un proyecto de exposición conjunta. Los interesados pueden confirmar su interés hasta el 12 de julio\, 2018. \nWeb  del evento
URL:https://www.aeim.org/index.php/actividad/construtec-2018/
LOCATION:Madrid
CATEGORIES:Destacado
ATTACH;FMTTYPE=image/png:https://www.aeim.org/wp-content/uploads/2018/07/Construtec-pequeño.png
END:VEVENT
END:VCALENDAR