BEGIN:VCALENDAR
VERSION:2.0
PRODID:-//AEIM - ECPv6.15.20//NONSGML v1.0//EN
CALSCALE:GREGORIAN
METHOD:PUBLISH
X-WR-CALNAME:AEIM
X-ORIGINAL-URL:https://www.aeim.org
X-WR-CALDESC:Eventos para AEIM
REFRESH-INTERVAL;VALUE=DURATION:PT1H
X-Robots-Tag:noindex
X-PUBLISHED-TTL:PT1H
BEGIN:VTIMEZONE
TZID:UTC
BEGIN:STANDARD
TZOFFSETFROM:+0000
TZOFFSETTO:+0000
TZNAME:UTC
DTSTART:20230101T000000
END:STANDARD
END:VTIMEZONE
BEGIN:VEVENT
DTSTART;TZID=UTC:20240222T163000
DTEND;TZID=UTC:20240222T180000
DTSTAMP:20260419T153640
CREATED:20240111T085828Z
LAST-MODIFIED:20240111T154344Z
UID:10727-1708619400-1708624800@www.aeim.org
SUMMARY:Mesa Redonda: El EUDR y la madera. Los siguientes pasos. Madrid. Hotel NH Príncipe de Vergara. Jueves\, 22 de febrero\, 2024.
DESCRIPTION:JORNADA AEIM. PREVIA A LA ASAMBLEA GENERAL. Madrid\, 23 de febrero\, 2024. Hotel NH Príncipe de Vergara. C/ Príncipe de Vergara\, 92.\nPROGRAMA.\n \nAEIM es la organización del sector de la madera en España.\n \n 
URL:https://www.aeim.org/index.php/actividad/nuevo-reglamento-europeo-contra-la-deforestacion-diligencia-debida-legalidad-y-certificacion/
LOCATION:Hotel NH Príncipe de Vergara
CATEGORIES:Destacado
ATTACH;FMTTYPE=image/jpeg:https://www.aeim.org/wp-content/uploads/2024/01/Jornada-EUDR-2024.-Con-logos-sponsors.jpg
END:VEVENT
BEGIN:VEVENT
DTSTART;TZID=UTC:20240223T100000
DTEND;TZID=UTC:20240223T140000
DTSTAMP:20260419T153640
CREATED:20240111T090759Z
LAST-MODIFIED:20240111T145037Z
UID:10748-1708682400-1708696800@www.aeim.org
SUMMARY:AEIM. Asamblea General Ordinaria. 2024. Madrid\, viernes\, 23 de febrero.
DESCRIPTION:La Asamblea General Ordinaria de AEIM 2024 se celebrará presencialmente\, el viernes 23 de febrero en el hotel NH Príncipe de Vergara. De 10 a 14 horas. \nEn breve más información\, con el programa completo y Orden del Día.
URL:https://www.aeim.org/index.php/actividad/aeim-asamblea-general-ordinaria-2023-madrid-viernes-3-de-marzo/
LOCATION:Hotel NH Príncipe de Vergara
CATEGORIES:Destacado
ATTACH;FMTTYPE=image/jpeg:https://www.aeim.org/wp-content/uploads/2023/03/Vista-general-desde-atrás.-mejor.jpg
END:VEVENT
END:VCALENDAR