BEGIN:VCALENDAR
VERSION:2.0
PRODID:-//AEIM - ECPv6.15.20//NONSGML v1.0//EN
CALSCALE:GREGORIAN
METHOD:PUBLISH
X-WR-CALNAME:AEIM
X-ORIGINAL-URL:https://www.aeim.org
X-WR-CALDESC:Eventos para AEIM
REFRESH-INTERVAL;VALUE=DURATION:PT1H
X-Robots-Tag:noindex
X-PUBLISHED-TTL:PT1H
BEGIN:VTIMEZONE
TZID:UTC
BEGIN:STANDARD
TZOFFSETFROM:+0000
TZOFFSETTO:+0000
TZNAME:UTC
DTSTART:20200101T000000
END:STANDARD
END:VTIMEZONE
BEGIN:VEVENT
DTSTART;TZID=UTC:20210715T200000
DTEND;TZID=UTC:20210715T200000
DTSTAMP:20260424T004711
CREATED:20210708T110944Z
LAST-MODIFIED:20210708T125548Z
UID:8265-1626379200-1626379200@www.aeim.org
SUMMARY:Curso 2 de formación bonificada online: "Construcción sostenible\, mejor con madera". Finaliza el 15 de julio\, 2021.
DESCRIPTION:El próximo 15 de julio finaliza el curso 2 de formación bonificada online para empresas asociadas: “Construcción sostenible\, mejor con madera”. \nPortada separata publicación de AEIM
URL:https://www.aeim.org/index.php/actividad/curso-2-de-formacion-bonificada-online-construccion-sostenible-mejor-con-madera-finaliza-el-15-de-julio-2021/
LOCATION:Navarra
CATEGORIES:Destacado
ATTACH;FMTTYPE=image/jpeg:https://www.aeim.org/wp-content/uploads/2021/07/Imagen-construccion-sostenible.jpg
END:VEVENT
END:VCALENDAR