BEGIN:VCALENDAR
VERSION:2.0
PRODID:-//AEIM - ECPv6.15.20//NONSGML v1.0//EN
CALSCALE:GREGORIAN
METHOD:PUBLISH
X-WR-CALNAME:AEIM
X-ORIGINAL-URL:https://www.aeim.org
X-WR-CALDESC:Eventos para AEIM
REFRESH-INTERVAL;VALUE=DURATION:PT1H
X-Robots-Tag:noindex
X-PUBLISHED-TTL:PT1H
BEGIN:VTIMEZONE
TZID:UTC
BEGIN:STANDARD
TZOFFSETFROM:+0000
TZOFFSETTO:+0000
TZNAME:UTC
DTSTART:20180101T000000
END:STANDARD
END:VTIMEZONE
BEGIN:VEVENT
DTSTART;TZID=UTC:20190108T090000
DTEND;TZID=UTC:20190110T140000
DTSTAMP:20260426T002805
CREATED:20181221T113507Z
LAST-MODIFIED:20181221T113815Z
UID:5083-1546938000-1547128800@www.aeim.org
SUMMARY:ATIBT. Workshop. Del 8 al 10 de Enero\, 2019.
DESCRIPTION:La ATIBT organiza un Workshop sobre diversos temas relacionados con el comercio de maderas tropicales a nivel mundial. \nSe celebrará en la sede de la ATIBT\, del 8 al 10 de Enero\, 2019.
URL:https://www.aeim.org/index.php/actividad/atibt-workshop-del-8-al-10-de-enero-2019/
LOCATION:ATIBT\, Nogent sur Marne\, Francia
CATEGORIES:Destacado
ATTACH;FMTTYPE=image/jpeg:https://www.aeim.org/wp-content/uploads/2018/12/logo-ATIBT.jpg
END:VEVENT
BEGIN:VEVENT
DTSTART;TZID=UTC:20190111T090000
DTEND;TZID=UTC:20190114T170000
DTSTAMP:20260426T002805
CREATED:20181221T114421Z
LAST-MODIFIED:20181221T115416Z
UID:5087-1547197200-1547485200@www.aeim.org
SUMMARY:Feria DOMOTEX 2019. The world of flooring. Hannover\, del 11 al 14\, enero.
DESCRIPTION:La Feria internacional DOMOTEX (The World of flooring) 2019\, se celebrará en Hannover\, del 11 al 14 de enero. \nAcceso a la web de la Feria
URL:https://www.aeim.org/index.php/actividad/feria-domotex-2019-the-world-of-flooring-hannover-del-11-al-14-enero/
LOCATION:Deutsche Messe\, Hannover\, Alemania
CATEGORIES:Destacado
ATTACH;FMTTYPE=image/jpeg:https://www.aeim.org/wp-content/uploads/2018/12/Domotex.jpg
END:VEVENT
END:VCALENDAR