BEGIN:VCALENDAR
VERSION:2.0
PRODID:-//AEIM - ECPv6.15.20//NONSGML v1.0//EN
CALSCALE:GREGORIAN
METHOD:PUBLISH
X-WR-CALNAME:AEIM
X-ORIGINAL-URL:https://www.aeim.org
X-WR-CALDESC:Eventos para AEIM
REFRESH-INTERVAL;VALUE=DURATION:PT1H
X-Robots-Tag:noindex
X-PUBLISHED-TTL:PT1H
BEGIN:VTIMEZONE
TZID:UTC
BEGIN:STANDARD
TZOFFSETFROM:+0000
TZOFFSETTO:+0000
TZNAME:UTC
DTSTART:20170101T000000
END:STANDARD
END:VTIMEZONE
BEGIN:VEVENT
DTSTART;TZID=UTC:20181113T003000
DTEND;TZID=UTC:20181113T133000
DTSTAMP:20260426T031044
CREATED:20181023T153144Z
LAST-MODIFIED:20181031T164545Z
UID:4537-1542069000-1542115800@www.aeim.org
SUMMARY:"En madera\, otra forma de construir". Presentación de dos publicaciones dedicadas a la construcción de edificios con madera. Feria Construtec. Green Forum. Pabellón 8. Acceso a programa e inscripciones
DESCRIPTION:En Madera\, otra forma de construir\nPresentación de dos publicaciones dedicadas a la construcción  con madera \n13/11/2018 de 12:30h a 13:30h en GREEN FORUM – Pabellón 8. \n  \nAcceso a programa e inscripciones en la web de FSC España \n 
URL:https://www.aeim.org/index.php/actividad/en-madera-otra-forma-de-construir-construtec/
LOCATION:Feria Construtec. Ifema. Pabellón 8
CATEGORIES:Destacado
ATTACH;FMTTYPE=image/jpeg:https://www.aeim.org/wp-content/uploads/2018/10/Acto-FSC.jpg
END:VEVENT
BEGIN:VEVENT
DTSTART;TZID=UTC:20181113T080000
DTEND;TZID=UTC:20181116T170000
DTSTAMP:20260426T031044
CREATED:20180703T100639Z
LAST-MODIFIED:20180703T104839Z
UID:4017-1542096000-1542387600@www.aeim.org
SUMMARY:Construtec 2018. Madrid. Ifema. Del 13 al 16 de noviembre.
DESCRIPTION:Construtec 2018. Salón Internacional de Materiales\, Técnicas y soluciones constructivas. Se celebrará en Madrid (Ifema). Del 13 al 16 de noviembre. \nDesde AEIM se ha remitido a los asociados un proyecto de exposición conjunta. Los interesados pueden confirmar su interés hasta el 12 de julio\, 2018. \nWeb  del evento
URL:https://www.aeim.org/index.php/actividad/construtec-2018/
LOCATION:Madrid
CATEGORIES:Destacado
ATTACH;FMTTYPE=image/png:https://www.aeim.org/wp-content/uploads/2018/07/Construtec-pequeño.png
END:VEVENT
BEGIN:VEVENT
DTSTART;TZID=UTC:20181126T080000
DTEND;TZID=UTC:20181129T190000
DTSTAMP:20260426T031044
CREATED:20181128T104420Z
LAST-MODIFIED:20181128T113831Z
UID:4787-1543219200-1543518000@www.aeim.org
SUMMARY:Congreso Nacional de Medioambiental. CONAMA 2018.
DESCRIPTION:CONAMA 2018 \nTendrá lugar en Madrid (Palacio Municipal de Congresos) del 26 al 29 de noviembre. \nAcceso a la Web del Congreso
URL:https://www.aeim.org/index.php/actividad/congreso-nacional-de-medioambiental-conama-2018/
LOCATION:Palacio Municipal de Congresos. Madrid.
CATEGORIES:Destacado
ATTACH;FMTTYPE=image/jpeg:https://www.aeim.org/wp-content/uploads/2018/11/CONAMA-cuadrado.jpg
END:VEVENT
BEGIN:VEVENT
DTSTART;TZID=UTC:20181127T093000
DTEND;TZID=UTC:20181127T190000
DTSTAMP:20260426T031044
CREATED:20181123T124104Z
LAST-MODIFIED:20181123T125836Z
UID:4758-1543311000-1543345200@www.aeim.org
SUMMARY:Sesión sobre Bioeconomía y productos forestales. Conama (Congreso nacional de medio ambiente). Madrid\, martes\, 27 de noviembre.
DESCRIPTION:Sesión sobre Bioeconomía y productos forestales. Conama (Congreso nacional de medioambiente)\, 27 de noviembre\, 2018.\n\n\n\nCONAMA 2018 \nEsta Estrategia\, aprobada en marzo de 2016\, dará a conocer su revisión el 23 de octubre de 2018\, por ello\, la sesión técnica quiere dar a conocer las novedades introducidas en la misma\, explicar la situación a nivel nacional y ver   cómo pasar de políticas a prácticas. \n\n\nLa temática se abordará de forma transversal y desde un enfoque crítico positivo para poder ver las diferencias entre sectores de forma general identificando posibles barreras y beneficios.\n\nPara ello se compartirán experiencias sobre las distintas temáticas planteadas por el comité abarcando distintos sectores como es la bioeconomía azul\, biocombustibles\, bioproductos…\n\nRespecto a la actividad económica\, dentro de la bioeconomía tiene un papel muy importante la producción primaria\, ya que el sector agroalimentario resulta clave dado su potencial en España\, utilizando gran cantidad de recursos y proporcionando bienes y servicios de importancia en el sector económico.\n\nLa actividad económica se desarrolla principalmente en las ciudades\, y dado el desconocimiento de la sociedad sobre la temática\, la sesión debatirá sobre cómo implementar soluciones de bioeconomía de forma que los ciudadanos vean cómo implantarla en el ámbito urbano.\n\nAcceso al programa de la mañana\n\nPor la tarde: Bioeconomía y productos forestales maderables y no maderables. Organiza: Asociación y Colegio Oficial de Ingenieros de Montes \n\nAcceso al programa de la tarde
URL:https://www.aeim.org/index.php/actividad/sesion-sobre-bioeconomia-y-productos-forestales-conama-congreso-nacional-de-medio-ambiente-martes-27-de/
LOCATION:Madrid. Ifema
CATEGORIES:Destacado
ATTACH;FMTTYPE=image/jpeg:https://www.aeim.org/wp-content/uploads/2018/11/Bioeconomia.jpg
END:VEVENT
END:VCALENDAR